BEGIN:VCALENDAR
VERSION:2.0
PRODID:-//Adham Somantrie/AyoLari.in//NONSGML v1.0//EN
CALSCALE:GREGORIAN
BEGIN:VEVENT
UID:139f0874f2ded2e41b0393c4ac5644f7
DTSTAMP:20260420T115348Z
LOCATION:Balikpapan
DESCRIPTION:ayolari.in
URL;VALUE=URI:https://ayolari.in/lomba/kodim-balikpapan-run
SUMMARY:Kodim Balikpapan Run
DTSTART;VALUE=DATE;TZID=ASIA-JAKARTA:20200405
DTEND;VALUE=DATE;TZID=ASIA-JAKARTA:20200406
TRANSP:TRANSPARENT
END:VEVENT
END:VCALENDAR