BEGIN:VCALENDAR
VERSION:2.0
PRODID:-//Adham Somantrie/AyoLari.in//NONSGML v1.0//EN
CALSCALE:GREGORIAN
BEGIN:VEVENT
UID:5103c3584b063c431bd1268e9b5e76fb
DTSTAMP:20260420T063331Z
LOCATION:Samosir
DESCRIPTION:ayolari.in
URL;VALUE=URI:https://ayolari.in/lomba/samosir-lake-toba-ultra-2020
SUMMARY:Samosir Lake Toba Ultra 2020
DTSTART;VALUE=DATE;TZID=ASIA-JAKARTA:20200926
DTEND;VALUE=DATE;TZID=ASIA-JAKARTA:20200927
TRANSP:TRANSPARENT
END:VEVENT
END:VCALENDAR