BEGIN:VCALENDAR
VERSION:2.0
PRODID:-//Adham Somantrie/AyoLari.in//NONSGML v1.0//EN
CALSCALE:GREGORIAN
BEGIN:VEVENT
UID:414e773d5b7e5c06d564f594bf6384d0
DTSTAMP:20260421T203351Z
LOCATION:Virtual Run
DESCRIPTION:ayolari.in
URL;VALUE=URI:https://ayolari.in/lomba/run-tokyo-2020-world-marathon-challenge
SUMMARY:Run Tokyo 2020 - World Marathon Challenge
DTSTART;VALUE=DATE;TZID=ASIA-JAKARTA:20200308
DTEND;VALUE=DATE;TZID=ASIA-JAKARTA:20200309
TRANSP:TRANSPARENT
END:VEVENT
END:VCALENDAR