BEGIN:VCALENDAR
VERSION:2.0
PRODID:-//Adham Somantrie/AyoLari.in//NONSGML v1.0//EN
CALSCALE:GREGORIAN
BEGIN:VEVENT
UID:cb79f8fa58b91d3af6c9c991f63962d3
DTSTAMP:20260420T051208Z
LOCATION:Balikpapan
DESCRIPTION:ayolari.in
URL;VALUE=URI:https://ayolari.in/lomba/grab-international-womens-day-2020-fun-run-5k
SUMMARY:Grab International Women&apos\;s Day 2020 Fun Run 5K
DTSTART;VALUE=DATE;TZID=ASIA-JAKARTA:20200308
DTEND;VALUE=DATE;TZID=ASIA-JAKARTA:20200309
TRANSP:TRANSPARENT
END:VEVENT
END:VCALENDAR