BEGIN:VCALENDAR
VERSION:2.0
PRODID:-//Adham Somantrie/AyoLari.in//NONSGML v1.0//EN
CALSCALE:GREGORIAN
BEGIN:VEVENT
UID:c44799b04a1c72e3c8593a53e8000c78
DTSTAMP:20260420T021816Z
LOCATION:Jakarta
DESCRIPTION:ayolari.in
URL;VALUE=URI:https://ayolari.in/lomba/ubl-run
SUMMARY:Universitas Budi Luhur Kampoong Run
DTSTART;VALUE=DATE;TZID=ASIA-JAKARTA:20200614
DTEND;VALUE=DATE;TZID=ASIA-JAKARTA:20200615
TRANSP:TRANSPARENT
END:VEVENT
END:VCALENDAR