BEGIN:VCALENDAR
VERSION:2.0
PRODID:-//Adham Somantrie/AyoLari.in//NONSGML v1.0//EN
CALSCALE:GREGORIAN
BEGIN:VEVENT
UID:ff7d0f525b3be596a51fb919492c099c
DTSTAMP:20260420T034926Z
LOCATION:Bogor
DESCRIPTION:ayolari.in
URL;VALUE=URI:https://ayolari.in/lomba/burners-ramadhan-night-race-brnr-2020
SUMMARY:Burners Ramadhan Night Race (BRNR) 2020
DTSTART;VALUE=DATE;TZID=ASIA-JAKARTA:20200502
DTEND;VALUE=DATE;TZID=ASIA-JAKARTA:20200503
TRANSP:TRANSPARENT
END:VEVENT
END:VCALENDAR