BEGIN:VCALENDAR
VERSION:2.0
PRODID:-//Adham Somantrie/AyoLari.in//NONSGML v1.0//EN
CALSCALE:GREGORIAN
BEGIN:VEVENT
UID:04df4d434d481c5bb723be1b6df1ee65
DTSTAMP:20260420T051344Z
LOCATION:Semarang
DESCRIPTION:ayolari.in
URL;VALUE=URI:https://ayolari.in/lomba/smartrun-60-feb-undip
SUMMARY:Smartrun 60 FEB UNDIP
DTSTART;VALUE=DATE;TZID=ASIA-JAKARTA:20200315
DTEND;VALUE=DATE;TZID=ASIA-JAKARTA:20200316
TRANSP:TRANSPARENT
END:VEVENT
END:VCALENDAR