BEGIN:VCALENDAR
VERSION:2.0
PRODID:-//Adham Somantrie/AyoLari.in//NONSGML v1.0//EN
CALSCALE:GREGORIAN
BEGIN:VEVENT
UID:ab7314887865c4265e896c6e209d1cd6
DTSTAMP:20260421T203637Z
LOCATION:Jakarta
DESCRIPTION:ayolari.in
URL;VALUE=URI:https://ayolari.in/lomba/mrt-run-2020
SUMMARY:MRT Run 2020
DTSTART;VALUE=DATE;TZID=ASIA-JAKARTA:20200321
DTEND;VALUE=DATE;TZID=ASIA-JAKARTA:20200322
TRANSP:TRANSPARENT
END:VEVENT
END:VCALENDAR