BEGIN:VCALENDAR
VERSION:2.0
PRODID:-//Adham Somantrie/AyoLari.in//NONSGML v1.0//EN
CALSCALE:GREGORIAN
BEGIN:VEVENT
UID:65699726a3c601b9f31bf04019c8593c
DTSTAMP:20260420T081720Z
LOCATION:Lombok
DESCRIPTION:ayolari.in
URL;VALUE=URI:https://ayolari.in/lomba/ironman-70-3-lombok-2020
SUMMARY:Ironman 70.3 Lombok 2020
DTSTART;VALUE=DATE;TZID=ASIA-JAKARTA:20200704
DTEND;VALUE=DATE;TZID=ASIA-JAKARTA:20200705
TRANSP:TRANSPARENT
END:VEVENT
END:VCALENDAR