BEGIN:VCALENDAR
VERSION:2.0
PRODID:-//Adham Somantrie/AyoLari.in//NONSGML v1.0//EN
CALSCALE:GREGORIAN
BEGIN:VEVENT
UID:9fdb62f932adf55af2c0e09e55861964
DTSTAMP:20260421T215048Z
LOCATION:Balikpapan
DESCRIPTION:ayolari.in
URL;VALUE=URI:https://ayolari.in/lomba/pegadaian-run-for-gold
SUMMARY:Pegadaian Run For Gold
DTSTART;VALUE=DATE;TZID=ASIA-JAKARTA:20200322
DTEND;VALUE=DATE;TZID=ASIA-JAKARTA:20200323
TRANSP:TRANSPARENT
END:VEVENT
END:VCALENDAR