BEGIN:VCALENDAR
VERSION:2.0
PRODID:-//Adham Somantrie/AyoLari.in//NONSGML v1.0//EN
CALSCALE:GREGORIAN
BEGIN:VEVENT
UID:e06f967fb0d355592be4e7674fa31d26
DTSTAMP:20260420T023752Z
LOCATION:Virtual Run
DESCRIPTION:ayolari.in
URL;VALUE=URI:https://ayolari.in/lomba/pelaribaik-virtual-run-2020-1
SUMMARY:2020 Pelari Baik Virtual Challenge #1
DTSTART;VALUE=DATE;TZID=ASIA-JAKARTA:20200322
DTEND;VALUE=DATE;TZID=ASIA-JAKARTA:20200323
TRANSP:TRANSPARENT
END:VEVENT
END:VCALENDAR