BEGIN:VCALENDAR
VERSION:2.0
PRODID:-//Adham Somantrie/AyoLari.in//NONSGML v1.0//EN
CALSCALE:GREGORIAN
BEGIN:VEVENT
UID:13168e6a2e6c84b4b7de9390c0ef5ec5
DTSTAMP:20260420T022338Z
LOCATION:Jakarta
DESCRIPTION:ayolari.in
URL;VALUE=URI:https://ayolari.in/lomba/mahe-run-2020
SUMMARY:MaHe Run 2020
DTSTART;VALUE=DATE;TZID=ASIA-JAKARTA:20200315
DTEND;VALUE=DATE;TZID=ASIA-JAKARTA:20200316
TRANSP:TRANSPARENT
END:VEVENT
END:VCALENDAR