BEGIN:VCALENDAR
VERSION:2.0
PRODID:-//Adham Somantrie/AyoLari.in//NONSGML v1.0//EN
CALSCALE:GREGORIAN
BEGIN:VEVENT
UID:d523773c6b194f37b938d340d5d02232
DTSTAMP:20260420T051208Z
LOCATION:Jakarta
DESCRIPTION:ayolari.in
URL;VALUE=URI:https://ayolari.in/lomba/mrccc-run-for-hope-2020
SUMMARY:MRCCC Run for Hope 2020
DTSTART;VALUE=DATE;TZID=ASIA-JAKARTA:20200223
DTEND;VALUE=DATE;TZID=ASIA-JAKARTA:20200224
TRANSP:TRANSPARENT
END:VEVENT
END:VCALENDAR