BEGIN:VCALENDAR
VERSION:2.0
PRODID:-//Adham Somantrie/AyoLari.in//NONSGML v1.0//EN
CALSCALE:GREGORIAN
BEGIN:VEVENT
UID:f0fcf351df4eb6786e9bb6fc4e2dee02
DTSTAMP:20260421T215244Z
LOCATION:Bintan
DESCRIPTION:ayolari.in
URL;VALUE=URI:https://ayolari.in/lomba/bintan-marathon
SUMMARY:Bintan Marathon
DTSTART;VALUE=DATE;TZID=ASIA-JAKARTA:20200705
DTEND;VALUE=DATE;TZID=ASIA-JAKARTA:20200706
TRANSP:TRANSPARENT
END:VEVENT
END:VCALENDAR