BEGIN:VCALENDAR
VERSION:2.0
PRODID:-//Adham Somantrie/AyoLari.in//NONSGML v1.0//EN
CALSCALE:GREGORIAN
BEGIN:VEVENT
UID:44a2e0804995faf8d2e3b084a1e2db1d
DTSTAMP:20260420T081233Z
LOCATION:Palembang
DESCRIPTION:ayolari.in
URL;VALUE=URI:https://ayolari.in/lomba/palembang-triathlon
SUMMARY:Palembang Triathlon 2020
DTSTART;VALUE=DATE;TZID=ASIA-JAKARTA:20200223
DTEND;VALUE=DATE;TZID=ASIA-JAKARTA:20200224
TRANSP:TRANSPARENT
END:VEVENT
END:VCALENDAR