BEGIN:VCALENDAR
VERSION:2.0
PRODID:-//Adham Somantrie/AyoLari.in//NONSGML v1.0//EN
CALSCALE:GREGORIAN
BEGIN:VEVENT
UID:dc5d637ed5e62c36ecb73b654b05ba2a
DTSTAMP:20260420T081220Z
LOCATION:Surabaya
DESCRIPTION:ayolari.in
URL;VALUE=URI:https://ayolari.in/lomba/surabaya-triathlon
SUMMARY:Surabaya Triathlon
DTSTART;VALUE=DATE;TZID=ASIA-JAKARTA:20200308
DTEND;VALUE=DATE;TZID=ASIA-JAKARTA:20200309
TRANSP:TRANSPARENT
END:VEVENT
END:VCALENDAR