BEGIN:VCALENDAR
VERSION:2.0
PRODID:-//Adham Somantrie/AyoLari.in//NONSGML v1.0//EN
CALSCALE:GREGORIAN
BEGIN:VEVENT
UID:d4b2aeb2453bdadaa45cbe9882ffefcf
DTSTAMP:20260420T081238Z
LOCATION:Tangerang
DESCRIPTION:ayolari.in
URL;VALUE=URI:https://ayolari.in/lomba/tangrun-insomnia-2020
SUMMARY:Tangrun Insomnia 2020
DTSTART;VALUE=DATE;TZID=ASIA-JAKARTA:20200222
DTEND;VALUE=DATE;TZID=ASIA-JAKARTA:20200223
TRANSP:TRANSPARENT
END:VEVENT
END:VCALENDAR