BEGIN:VCALENDAR
VERSION:2.0
PRODID:-//Adham Somantrie/AyoLari.in//NONSGML v1.0//EN
CALSCALE:GREGORIAN
BEGIN:VEVENT
UID:c164bbc9d6c72a52c599bbb43d8db8e1
DTSTAMP:20260420T023654Z
LOCATION:Garut
DESCRIPTION:ayolari.in
URL;VALUE=URI:https://ayolari.in/lomba/papandayan-trail-run
SUMMARY:Papandayan Trail Run
DTSTART;VALUE=DATE;TZID=ASIA-JAKARTA:20201018
DTEND;VALUE=DATE;TZID=ASIA-JAKARTA:20201019
TRANSP:TRANSPARENT
END:VEVENT
END:VCALENDAR