BEGIN:VCALENDAR
VERSION:2.0
PRODID:-//Adham Somantrie/AyoLari.in//NONSGML v1.0//EN
CALSCALE:GREGORIAN
BEGIN:VEVENT
UID:d072677d210ac4c03ba046120f0802ec
DTSTAMP:20260421T204423Z
LOCATION:Virtual Run
DESCRIPTION:ayolari.in
URL;VALUE=URI:https://ayolari.in/lomba/hari-gerakan-1-juta-pohon-virtual-run
SUMMARY:Hari Gerakan 1 Juta Pohon Virtual Run
DTSTART;VALUE=DATE;TZID=ASIA-JAKARTA:20200108
DTEND;VALUE=DATE;TZID=ASIA-JAKARTA:20200109
TRANSP:TRANSPARENT
END:VEVENT
END:VCALENDAR