BEGIN:VCALENDAR
VERSION:2.0
PRODID:-//Adham Somantrie/AyoLari.in//NONSGML v1.0//EN
CALSCALE:GREGORIAN
BEGIN:VEVENT
UID:4e87337f366f72daa424dae11df0538c
DTSTAMP:20260420T035012Z
LOCATION:Tangerang
DESCRIPTION:ayolari.in
URL;VALUE=URI:https://ayolari.in/lomba/trackfest-trackmeet-40
SUMMARY:TrackFest TrackMeet 4.0
DTSTART;VALUE=DATE;TZID=ASIA-JAKARTA:20200111
DTEND;VALUE=DATE;TZID=ASIA-JAKARTA:20200112
TRANSP:TRANSPARENT
END:VEVENT
END:VCALENDAR