BEGIN:VCALENDAR
VERSION:2.0
PRODID:-//Adham Somantrie/AyoLari.in//NONSGML v1.0//EN
CALSCALE:GREGORIAN
BEGIN:VEVENT
UID:f9d1152547c0bde01830b7e8bd60024c
DTSTAMP:20260421T204234Z
LOCATION:Yogyakarta
DESCRIPTION:ayolari.in
URL;VALUE=URI:https://ayolari.in/lomba/bank-bpd-diy-malioboro-10k
SUMMARY:Bank BPD DIY MALIOBORO 10K
DTSTART;VALUE=DATE;TZID=ASIA-JAKARTA:20200614
DTEND;VALUE=DATE;TZID=ASIA-JAKARTA:20200615
TRANSP:TRANSPARENT
END:VEVENT
END:VCALENDAR