BEGIN:VCALENDAR
VERSION:2.0
PRODID:-//Adham Somantrie/AyoLari.in//NONSGML v1.0//EN
CALSCALE:GREGORIAN
BEGIN:VEVENT
UID:9872ed9fc22fc182d371c3e9ed316094
DTSTAMP:20260421T005649Z
LOCATION:Jakarta
DESCRIPTION:ayolari.in
URL;VALUE=URI:https://ayolari.in/lomba/jakarta-race-series-2015-1
SUMMARY:Jakarta Race Series 2015 #1
DTSTART;VALUE=DATE;TZID=ASIA-JAKARTA:20150208
DTEND;VALUE=DATE;TZID=ASIA-JAKARTA:20150209
TRANSP:TRANSPARENT
END:VEVENT
END:VCALENDAR