BEGIN:VCALENDAR
VERSION:2.0
PRODID:-//Adham Somantrie/AyoLari.in//NONSGML v1.0//EN
CALSCALE:GREGORIAN
BEGIN:VEVENT
UID:d7fd118e6f226a71b5f1ffe10efd0a78
DTSTAMP:20260421T204423Z
LOCATION:Ende â€“ Nagekeo
DESCRIPTION:ayolari.in
URL;VALUE=URI:https://ayolari.in/lomba/jelajah-timur-â€“-run-for-equality-2020
SUMMARY:Jelajah Timur â€“ Run for Equality 2020
DTSTART;VALUE=DATE;TZID=ASIA-JAKARTA:20200710
DTEND;VALUE=DATE;TZID=ASIA-JAKARTA:20200711
TRANSP:TRANSPARENT
END:VEVENT
END:VCALENDAR