BEGIN:VCALENDAR
VERSION:2.0
PRODID:-//Adham Somantrie/AyoLari.in//NONSGML v1.0//EN
CALSCALE:GREGORIAN
BEGIN:VEVENT
UID:eb1e78328c46506b46a4ac4a1e378b91
DTSTAMP:20260420T115337Z
LOCATION:Jakarta
DESCRIPTION:ayolari.in
URL;VALUE=URI:https://ayolari.in/lomba/skyrun-2020
SUMMARY:SKYRUN 2020
DTSTART;VALUE=DATE;TZID=ASIA-JAKARTA:20200202
DTEND;VALUE=DATE;TZID=ASIA-JAKARTA:20200203
TRANSP:TRANSPARENT
END:VEVENT
END:VCALENDAR