BEGIN:VCALENDAR
VERSION:2.0
PRODID:-//Adham Somantrie/AyoLari.in//NONSGML v1.0//EN
CALSCALE:GREGORIAN
BEGIN:VEVENT
UID:8c3039bd5842dca3d944faab91447818
DTSTAMP:20260420T035012Z
LOCATION:Bogor
DESCRIPTION:ayolari.in
URL;VALUE=URI:https://ayolari.in/lomba/bogor-unicorn-5-km-fun-run
SUMMARY:Bogor Unicorn 5 KM Fun Run
DTSTART;VALUE=DATE;TZID=ASIA-JAKARTA:20200216
DTEND;VALUE=DATE;TZID=ASIA-JAKARTA:20200217
TRANSP:TRANSPARENT
END:VEVENT
END:VCALENDAR