BEGIN:VCALENDAR
VERSION:2.0
PRODID:-//Adham Somantrie/AyoLari.in//NONSGML v1.0//EN
CALSCALE:GREGORIAN
BEGIN:VEVENT
UID:82cadb0649a3af4968404c9f6031b233
DTSTAMP:20260420T081232Z
LOCATION:Virtual Run
DESCRIPTION:ayolari.in
URL;VALUE=URI:https://ayolari.in/lomba/ready-set-go-2020-virtual-run
SUMMARY:Ready\, Set\, Go! 2020 Virtual Run
DTSTART;VALUE=DATE;TZID=ASIA-JAKARTA:20200101
DTEND;VALUE=DATE;TZID=ASIA-JAKARTA:20200102
TRANSP:TRANSPARENT
END:VEVENT
END:VCALENDAR