BEGIN:VCALENDAR
VERSION:2.0
PRODID:-//Adham Somantrie/AyoLari.in//NONSGML v1.0//EN
CALSCALE:GREGORIAN
BEGIN:VEVENT
UID:f45a1078feb35de77d26b3f7a52ef502
DTSTAMP:20260421T203630Z
LOCATION:Virtual Run
DESCRIPTION:ayolari.in
URL;VALUE=URI:https://ayolari.in/lomba/snp-gaspoll-60k
SUMMARY:SNP GASPOLL 60K
DTSTART;VALUE=DATE;TZID=ASIA-JAKARTA:20200322
DTEND;VALUE=DATE;TZID=ASIA-JAKARTA:20200323
TRANSP:TRANSPARENT
END:VEVENT
END:VCALENDAR