BEGIN:VCALENDAR
VERSION:2.0
PRODID:-//Adham Somantrie/AyoLari.in//NONSGML v1.0//EN
CALSCALE:GREGORIAN
BEGIN:VEVENT
UID:59bcda7c438bad7d2afffe9e2fed00be
DTSTAMP:20260420T094754Z
LOCATION:Virtual Run
DESCRIPTION:ayolari.in
URL;VALUE=URI:https://ayolari.in/lomba/re-soul-ution-run-2
SUMMARY:Re-Soul-ution Run 2
DTSTART;VALUE=DATE;TZID=ASIA-JAKARTA:20200202
DTEND;VALUE=DATE;TZID=ASIA-JAKARTA:20200203
TRANSP:TRANSPARENT
END:VEVENT
END:VCALENDAR