BEGIN:VCALENDAR
VERSION:2.0
PRODID:-//Adham Somantrie/AyoLari.in//NONSGML v1.0//EN
CALSCALE:GREGORIAN
BEGIN:VEVENT
UID:06a15eb1c3836723b53e4abca8d9b879
DTSTAMP:20260420T084041Z
LOCATION:Pasuruan
DESCRIPTION:ayolari.in
URL;VALUE=URI:https://ayolari.in/lomba/senyiur-run-for-charity
SUMMARY:Senyiur Run for Charity
DTSTART;VALUE=DATE;TZID=ASIA-JAKARTA:20200202
DTEND;VALUE=DATE;TZID=ASIA-JAKARTA:20200203
TRANSP:TRANSPARENT
END:VEVENT
END:VCALENDAR