BEGIN:VCALENDAR
VERSION:2.0
PRODID:-//Adham Somantrie/AyoLari.in//NONSGML v1.0//EN
CALSCALE:GREGORIAN
BEGIN:VEVENT
UID:2647c1dba23bc0e0f9cdf75339e120d2
DTSTAMP:20260421T222403Z
LOCATION:Kab. Brojonegoro
DESCRIPTION:ayolari.in
URL;VALUE=URI:https://ayolari.in/lomba/nawa-bhakti-5k-2020
SUMMARY:Nawa Bhakti 5K 2020
DTSTART;VALUE=DATE;TZID=ASIA-JAKARTA:20200216
DTEND;VALUE=DATE;TZID=ASIA-JAKARTA:20200217
TRANSP:TRANSPARENT
END:VEVENT
END:VCALENDAR