BEGIN:VCALENDAR
VERSION:2.0
PRODID:-//Adham Somantrie/AyoLari.in//NONSGML v1.0//EN
CALSCALE:GREGORIAN
BEGIN:VEVENT
UID:6e79ed05baec2754e25b4eac73a332d2
DTSTAMP:20260421T203634Z
LOCATION:Bontang\, Kalimantan Timur
DESCRIPTION:ayolari.in
URL;VALUE=URI:https://ayolari.in/lomba/krush-first-race-2020
SUMMARY:KRUSH First Race 2020
DTSTART;VALUE=DATE;TZID=ASIA-JAKARTA:20200301
DTEND;VALUE=DATE;TZID=ASIA-JAKARTA:20200302
TRANSP:TRANSPARENT
END:VEVENT
END:VCALENDAR