BEGIN:VCALENDAR
VERSION:2.0
PRODID:-//Adham Somantrie/AyoLari.in//NONSGML v1.0//EN
CALSCALE:GREGORIAN
BEGIN:VEVENT
UID:f39ae9ff3a81f499230c4126e01f421b
DTSTAMP:20260421T205451Z
LOCATION:Pontianak
DESCRIPTION:ayolari.in
URL;VALUE=URI:https://ayolari.in/lomba/pontianak-city-run-half-marathon-2020
SUMMARY:Pontianak City Run Half Marathon 2020
DTSTART;VALUE=DATE;TZID=ASIA-JAKARTA:20200202
DTEND;VALUE=DATE;TZID=ASIA-JAKARTA:20200203
TRANSP:TRANSPARENT
END:VEVENT
END:VCALENDAR