BEGIN:VCALENDAR
VERSION:2.0
PRODID:-//Adham Somantrie/AyoLari.in//NONSGML v1.0//EN
CALSCALE:GREGORIAN
BEGIN:VEVENT
UID:ac5dab2e99eee9cf9ec672e383691302
DTSTAMP:20260420T034845Z
LOCATION:Gowa
DESCRIPTION:ayolari.in
URL;VALUE=URI:https://ayolari.in/lomba/galesong-trail-run-2020
SUMMARY:Galesong Trail Run 2020
DTSTART;VALUE=DATE;TZID=ASIA-JAKARTA:20200405
DTEND;VALUE=DATE;TZID=ASIA-JAKARTA:20200406
TRANSP:TRANSPARENT
END:VEVENT
END:VCALENDAR