BEGIN:VCALENDAR
VERSION:2.0
PRODID:-//Adham Somantrie/AyoLari.in//NONSGML v1.0//EN
CALSCALE:GREGORIAN
BEGIN:VEVENT
UID:0731460a8a5ce1626210cbf4385ae0ef
DTSTAMP:20260421T095526Z
LOCATION:Jakarta
DESCRIPTION:ayolari.in
URL;VALUE=URI:https://ayolari.in/lomba/cinerun
SUMMARY:CineRUN
DTSTART;VALUE=DATE;TZID=ASIA-JAKARTA:20191201
DTEND;VALUE=DATE;TZID=ASIA-JAKARTA:20191202
TRANSP:TRANSPARENT
END:VEVENT
END:VCALENDAR