BEGIN:VCALENDAR
VERSION:2.0
PRODID:-//Adham Somantrie/AyoLari.in//NONSGML v1.0//EN
CALSCALE:GREGORIAN
BEGIN:VEVENT
UID:59e0b2658e9f2e77f8d4d83f8d07ca84
DTSTAMP:20260420T115348Z
LOCATION:Yogyakarta
DESCRIPTION:ayolari.in
URL;VALUE=URI:https://ayolari.in/lomba/coast-to-coast-night-trail-ultra-2020
SUMMARY:Coast to Coast Night Trail Ultra 2020
DTSTART;VALUE=DATE;TZID=ASIA-JAKARTA:20200215
DTEND;VALUE=DATE;TZID=ASIA-JAKARTA:20200216
TRANSP:TRANSPARENT
END:VEVENT
END:VCALENDAR