BEGIN:VCALENDAR
VERSION:2.0
PRODID:-//Adham Somantrie/AyoLari.in//NONSGML v1.0//EN
CALSCALE:GREGORIAN
BEGIN:VEVENT
UID:c8cbd669cfb2f016574e9d147092b5bb
DTSTAMP:20260421T110942Z
LOCATION:Jakarta
DESCRIPTION:ayolari.in
URL;VALUE=URI:https://ayolari.in/lomba/mofomofa-recycle-dare-to-give-back-no-plastic-bag
SUMMARY:MofoMofa Recycle Dare to Give Back No Plastic Bag
DTSTART;VALUE=DATE;TZID=ASIA-JAKARTA:20191208
DTEND;VALUE=DATE;TZID=ASIA-JAKARTA:20191209
TRANSP:TRANSPARENT
END:VEVENT
END:VCALENDAR