BEGIN:VCALENDAR
VERSION:2.0
PRODID:-//Adham Somantrie/AyoLari.in//NONSGML v1.0//EN
CALSCALE:GREGORIAN
BEGIN:VEVENT
UID:6709e8d64a5f47269ed5cea9f625f7ab
DTSTAMP:20260421T055346Z
LOCATION:Virtual Run
DESCRIPTION:ayolari.in
URL;VALUE=URI:https://ayolari.in/lomba/monster-series
SUMMARY:Monster Series
DTSTART;VALUE=DATE;TZID=ASIA-JAKARTA:20191028
DTEND;VALUE=DATE;TZID=ASIA-JAKARTA:20191029
TRANSP:TRANSPARENT
END:VEVENT
END:VCALENDAR