BEGIN:VCALENDAR
VERSION:2.0
PRODID:-//Adham Somantrie/AyoLari.in//NONSGML v1.0//EN
CALSCALE:GREGORIAN
BEGIN:VEVENT
UID:ba1b3eba322eab5d895aa3023fe78b9c
DTSTAMP:20260420T034848Z
LOCATION:Bandung
DESCRIPTION:ayolari.in
URL;VALUE=URI:https://ayolari.in/lomba/tahura-trail-run-2020
SUMMARY:Tahura Trail Run 2020
DTSTART;VALUE=DATE;TZID=ASIA-JAKARTA:20200118
DTEND;VALUE=DATE;TZID=ASIA-JAKARTA:20200119
TRANSP:TRANSPARENT
END:VEVENT
END:VCALENDAR