BEGIN:VCALENDAR
VERSION:2.0
PRODID:-//Adham Somantrie/AyoLari.in//NONSGML v1.0//EN
CALSCALE:GREGORIAN
BEGIN:VEVENT
UID:404dcc91b2aeaa7caa47487d1483e48a
DTSTAMP:20260421T215208Z
LOCATION:Palembang
DESCRIPTION:ayolari.in
URL;VALUE=URI:https://ayolari.in/lomba/transmart-palembang-city-center-joy-run-2019
SUMMARY:Transmart Palembang City Center Joy Run 2019
DTSTART;VALUE=DATE;TZID=ASIA-JAKARTA:20191027
DTEND;VALUE=DATE;TZID=ASIA-JAKARTA:20191028
TRANSP:TRANSPARENT
END:VEVENT
END:VCALENDAR