BEGIN:VCALENDAR
VERSION:2.0
PRODID:-//Adham Somantrie/AyoLari.in//NONSGML v1.0//EN
CALSCALE:GREGORIAN
BEGIN:VEVENT
UID:5a142a55461d5fef016acfb927fee0bd
DTSTAMP:20260421T041650Z
LOCATION:Makassar
DESCRIPTION:ayolari.in
URL;VALUE=URI:https://ayolari.in/lomba/teh-gelas-fajar-run-2019
SUMMARY:Teh Gelas Fajar Run 2019
DTSTART;VALUE=DATE;TZID=ASIA-JAKARTA:20191006
DTEND;VALUE=DATE;TZID=ASIA-JAKARTA:20191007
TRANSP:TRANSPARENT
END:VEVENT
END:VCALENDAR