BEGIN:VCALENDAR
VERSION:2.0
PRODID:-//Adham Somantrie/AyoLari.in//NONSGML v1.0//EN
CALSCALE:GREGORIAN
BEGIN:VEVENT
UID:ef2a4be5473ab0b3cc286e67b1f59f44
DTSTAMP:20260421T111120Z
LOCATION:Jakarta
DESCRIPTION:ayolari.in
URL;VALUE=URI:https://ayolari.in/lomba/run-the-ramp-2019
SUMMARY:Run The Ramp 2019
DTSTART;VALUE=DATE;TZID=ASIA-JAKARTA:20191020
DTEND;VALUE=DATE;TZID=ASIA-JAKARTA:20191021
TRANSP:TRANSPARENT
END:VEVENT
END:VCALENDAR