BEGIN:VCALENDAR
VERSION:2.0
PRODID:-//Adham Somantrie/AyoLari.in//NONSGML v1.0//EN
CALSCALE:GREGORIAN
BEGIN:VEVENT
UID:b618c3210e934362ac261db280128c22
DTSTAMP:20260420T023750Z
LOCATION:Bogor
DESCRIPTION:ayolari.in
URL;VALUE=URI:https://ayolari.in/lomba/sentul-hill-trail-run-2020
SUMMARY:Sentul Hill Trail Run 2020
DTSTART;VALUE=DATE;TZID=ASIA-JAKARTA:20200620
DTEND;VALUE=DATE;TZID=ASIA-JAKARTA:20200621
TRANSP:TRANSPARENT
END:VEVENT
END:VCALENDAR