BEGIN:VCALENDAR
VERSION:2.0
PRODID:-//Adham Somantrie/AyoLari.in//NONSGML v1.0//EN
CALSCALE:GREGORIAN
BEGIN:VEVENT
UID:10c272d06794d3e5785d5e7c5356e9ff
DTSTAMP:20260420T234642Z
LOCATION:Virtual Run
DESCRIPTION:ayolari.in
URL;VALUE=URI:https://ayolari.in/lomba/267k-mangrove-virtual-run
SUMMARY:26.7K Mangrove Virtual Run
DTSTART;VALUE=DATE;TZID=ASIA-JAKARTA:20190726
DTEND;VALUE=DATE;TZID=ASIA-JAKARTA:20190727
TRANSP:TRANSPARENT
END:VEVENT
END:VCALENDAR