BEGIN:VCALENDAR
VERSION:2.0
PRODID:-//Adham Somantrie/AyoLari.in//NONSGML v1.0//EN
CALSCALE:GREGORIAN
BEGIN:VEVENT
UID:b73ce398c39f506af761d2277d853a92
DTSTAMP:20260421T020828Z
LOCATION:Jakarta
DESCRIPTION:ayolari.in
URL;VALUE=URI:https://ayolari.in/lomba/kids-fantasy-run
SUMMARY:Kids Fantasy Run
DTSTART;VALUE=DATE;TZID=ASIA-JAKARTA:20141129
DTEND;VALUE=DATE;TZID=ASIA-JAKARTA:20141130
TRANSP:TRANSPARENT
END:VEVENT
END:VCALENDAR