BEGIN:VCALENDAR
VERSION:2.0
PRODID:-//Adham Somantrie/AyoLari.in//NONSGML v1.0//EN
CALSCALE:GREGORIAN
BEGIN:VEVENT
UID:06409663226af2f3114485aa4e0a23b4
DTSTAMP:20260421T021045Z
LOCATION:Jakarta
DESCRIPTION:ayolari.in
URL;VALUE=URI:https://ayolari.in/lomba/selfie-run-2014
SUMMARY:Selfie RUN 2014
DTSTART;VALUE=DATE;TZID=ASIA-JAKARTA:20141207
DTEND;VALUE=DATE;TZID=ASIA-JAKARTA:20141208
TRANSP:TRANSPARENT
END:VEVENT
END:VCALENDAR