BEGIN:VCALENDAR
VERSION:2.0
PRODID:-//Adham Somantrie/AyoLari.in//NONSGML v1.0//EN
CALSCALE:GREGORIAN
BEGIN:VEVENT
UID:70efba66d3d8d53194fb1a8446ae07fa
DTSTAMP:20260420T022820Z
LOCATION:Jakarta
DESCRIPTION:ayolari.in
URL;VALUE=URI:https://ayolari.in/lomba/superball-marathon-2019
SUMMARY:Superball Run The 6th Edition
DTSTART;VALUE=DATE;TZID=ASIA-JAKARTA:20200112
DTEND;VALUE=DATE;TZID=ASIA-JAKARTA:20200113
TRANSP:TRANSPARENT
END:VEVENT
END:VCALENDAR