BEGIN:VCALENDAR
VERSION:2.0
PRODID:-//Adham Somantrie/AyoLari.in//NONSGML v1.0//EN
CALSCALE:GREGORIAN
BEGIN:VEVENT
UID:596f713f9a7376fe90a62abaaedecc2d
DTSTAMP:20260421T000228Z
LOCATION:Jakarta
DESCRIPTION:ayolari.in
URL;VALUE=URI:https://ayolari.in/lomba/teraatv-run-10k-series-jakarta-i
SUMMARY:Teraa.TV Run 10K Series Jakarta I
DTSTART;VALUE=DATE;TZID=ASIA-JAKARTA:20190922
DTEND;VALUE=DATE;TZID=ASIA-JAKARTA:20190923
TRANSP:TRANSPARENT
END:VEVENT
END:VCALENDAR