BEGIN:VCALENDAR
VERSION:2.0
PRODID:-//Adham Somantrie/AyoLari.in//NONSGML v1.0//EN
CALSCALE:GREGORIAN
BEGIN:VEVENT
UID:b197ffdef2ddc3308584dce7afa3661b
DTSTAMP:20260421T124455Z
LOCATION:Virtual Run
DESCRIPTION:ayolari.in
URL;VALUE=URI:https://ayolari.in/lomba/iconic-virtual-runÂ valentine-day-series
SUMMARY:Iconic Virtual Run 2019Â (Valentine Day Series)
DTSTART;VALUE=DATE;TZID=ASIA-JAKARTA:20190205
DTEND;VALUE=DATE;TZID=ASIA-JAKARTA:20190206
TRANSP:TRANSPARENT
END:VEVENT
END:VCALENDAR