BEGIN:VCALENDAR
VERSION:2.0
PRODID:-//Adham Somantrie/AyoLari.in//NONSGML v1.0//EN
CALSCALE:GREGORIAN
BEGIN:VEVENT
UID:30c8e1ca872524fbf7ea5c519ca397ee
DTSTAMP:20260420T081034Z
LOCATION:Bintan
DESCRIPTION:ayolari.in
URL;VALUE=URI:https://ayolari.in/lomba/bintan-triathlon-2019
SUMMARY:Bintan Triathlon 2019
DTSTART;VALUE=DATE;TZID=ASIA-JAKARTA:20190608
DTEND;VALUE=DATE;TZID=ASIA-JAKARTA:20190609
TRANSP:TRANSPARENT
END:VEVENT
END:VCALENDAR