BEGIN:VCALENDAR
VERSION:2.0
PRODID:-//Adham Somantrie/AyoLari.in//NONSGML v1.0//EN
CALSCALE:GREGORIAN
BEGIN:VEVENT
UID:9701a1c165dd9420816bfec5edd6c2b1
DTSTAMP:20260420T081349Z
LOCATION:Palembang
DESCRIPTION:ayolari.in
URL;VALUE=URI:https://ayolari.in/lomba/palembang-triathlon-2019
SUMMARY:Palembang Triathlon 2019
DTSTART;VALUE=DATE;TZID=ASIA-JAKARTA:20190210
DTEND;VALUE=DATE;TZID=ASIA-JAKARTA:20190211
TRANSP:TRANSPARENT
END:VEVENT
END:VCALENDAR